Workbook

Sheet Resumen
A3: SUBVENCIONES ENTIDADES SANTANDER TE APOYA
A9: ANEXO 2. PRESUPUESTO
A10: AÑO: | B10: ='Detalle de partidas'!B1:X1 -> 2026
A11: ENTIDAD SOLICITANTE: | B11: ='Detalle de partidas'!B2:X2 -> Nombre de la Entidad
A12: PROYECTO: | B12: ='Detalle de partidas'!B3:X3 -> Nombre del proyecto
A13: PRESUPUESTO
A14: SUBPARTIDAS/ FINANCIADORES | B14: COFINACIACION DEL PROYECTO | K14: COSTE TOTAL DEL PROYECTO
B15: AYTO. SANTANDER | C15: PORCENTAJES SOLICITADOS AL AYTO. | D15: ENTIDAD | E15: COFINANCIACION 1 | G15: COFINANCIACION 2 | I15: COFINANCIACION 3
E16: Solicitada | F16: Aprobada | G16: Solicitada | H16: Aprobada | I16: Solicitada | J16: Aprobada
A17: A.1 Total Personal | B17: ='Detalle de partidas'!G12 -> 0 | C17: =B17*100/$B$18 -> #DIV/0! | D17: ='Detalle de partidas'!J12 -> 0 | E17: ='Detalle de partidas'!L12 -> 0 | F17: ='Detalle de partidas'!M12 -> 0 | G17: ='Detalle de partidas'!N12 -> 0 | H17: ='Detalle de partidas'!O12 -> 0 | I17: ='Detalle de partidas'!P12 -> 0 | J17: ='Detalle de partidas'!Q12 -> 0 | K17: =B17+D17+E17++F17+G17+H17+I17+J17 -> 0
A18: TOTAL COSTES DIRECTOS | B18: =B17 -> 0 | C18: =SUM(C17:C17) -> #DIV/0! | D18: =SUM(D17:D17) -> 0 | E18: ='Detalle de partidas'!L12 -> 0 | F18: =F17 -> 0 | G18: =G17 -> 0 | H18: =H17 -> 0 | I18: =I17 -> 0 | J18: =J17 -> 0 | K18: =B18+E18+F18+G18+H18+I18+J18+D18 -> 0
B20: Rellenar exclusivamente las celdas sombreadas en gris.

Sheet Detalle de partidas
A1: AÑO: | B1: 2026
A2: ENTIDAD SOLICITANTE: | B2: Nombre de la Entidad
A3: PROYECTO | B3: Nombre del proyecto
A4: Rellenar los campos que aparecen sombreados gris/ puedes añadir tantas filas como necesites (no olvides copiar las fórmulas establecidas)
A5: Partidas | B5: Categoría | D5: Importe Total | F5: % imputado al Ayto | G5: Importe € imputado al Ayto | I5: % imputado a la entidad | J5: Importe € imputado a la entidad | L5: Importe € imputado a financiador 1 | N5: Importe € imputado a financiador 2 | P5: Importe € imputado a financiador 3 | R5: % imputado a otros financiadores | S5: Importe € imputado a otros financiadores (1+2+3) | U5: Importe € Imputado (Ayto + entidad + otros financiadores) | W5: Total horas destinadas al proyecto | X5: Coste hora incluyendo la Seguridad Social del personal destinado al proyecto.
L6: Solicitado | M6: Aprobado | N6: Solicitado | O6: Aprobado | P6: Solicitado | Q6: Aprobado
A7: A.1. Personal
A8: Personal 1 | D8: 0 | F8: =G8/D8 -> #DIV/0! | G8: 0 | I8: =J8/D8 -> #DIV/0! | J8: 0 | L8: 0 | M8: 0 | N8: 0 | O8: 0 | P8: 0 | Q8: 0 | R8: =S8/D8 -> #DIV/0! | S8: =SUM(L8:Q8) -> 0 | U8: =G8+J8+S8 -> 0
A9: Personal 2 | D9: 0 | F9: =G9/D9 -> #DIV/0! | G9: 0 | I9: =J9/D9 -> #DIV/0! | J9: 0 | L9: 0 | M9: 0 | N9: 0 | O9: 0 | P9: 0 | Q9: 0 | R9: =S9/D9 -> #DIV/0! | S9: =SUM(L9:Q9) -> 0 | U9: =G9+J9+S9 -> 0
A10: (,,,) | D10: 0 | F10: =G10/D10 -> #DIV/0! | G10: 0 | I10: =J10/D10 -> #DIV/0! | J10: 0 | L10: 0 | M10: 0 | N10: 0 | O10: 0 | P10: 0 | Q10: 0 | R10: =S10/D10 -> #DIV/0! | S10: =SUM(L10:Q10) -> 0 | U10: =G10+J10+S10 -> 0
G12: =SUM(G8:G11) -> 0 | J12: =SUM(J8:J11) -> 0 | K12: =SUM(K8:K11) -> 0 | L12: =SUM(L8:L11) -> 0 | M12: =SUM(M8:M11) -> 0 | N12: =SUM(N8:N11) -> 0 | O12: =SUM(O8:O11) -> 0 | P12: =SUM(P8:P11) -> 0 | Q12: =SUM(Q8:Q11) -> 0 | S12: =SUM(S8:S11) -> 0 | U12: =SUM(U8:U11) -> 0
D16: Nombre
C17: COFINANCIADOR 1
C18: COFINANCIADOR 2
C19: COFINANCIADOR 3

Sheet Costes Trabajador1 
A3: Coste Total del empleador | L3: €
A4: Personal 1
A5: Salario Bruto Anual
A6: Seguridad Social
A7: Otros costes:
A10: (…)
A12: Coste total Anual
A14: Detallar las bonificaciones/ deducciones aplicadas al trabajador (incluir las cuantías)

Sheet Costes Trabjador2
A3: Coste Total del empleador | L3: €
A4: Personal 2
A5: Salario Bruto Anual
A6: Seguridad Social
A7: Otros costes:
A10: (…)
A12: Coste total Anual
A14: Detallar las bonificaciones/ deducciones aplicadas al trabajador (incluir las cuantías)

Sheet Costes Trabajador X
A3: Coste Total del empleador | L3: €
A4: Personal x
A5: Salario Bruto Anual
A6: Seguridad Social
A7: Otros costes:
A10: (…)
A12: Coste total Anual
A14: Detallar las bonificaciones/ deducciones aplicadas al trabajador (incluir las cuantías)
